BEGIN:VCALENDAR
VERSION:2.0
PRODID:-//Greene County Historical Society - ECPv6.15.18//NONSGML v1.0//EN
CALSCALE:GREGORIAN
METHOD:PUBLISH
X-ORIGINAL-URL:https://gchsxo.org
X-WR-CALDESC:Events for Greene County Historical Society
REFRESH-INTERVAL;VALUE=DURATION:PT1H
X-Robots-Tag:noindex
X-PUBLISHED-TTL:PT1H
BEGIN:VTIMEZONE
TZID:UTC
BEGIN:STANDARD
TZOFFSETFROM:+0000
TZOFFSETTO:+0000
TZNAME:UTC
DTSTART:20230101T000000
END:STANDARD
END:VTIMEZONE
BEGIN:VEVENT
DTSTART;TZID=UTC:20241208T130000
DTEND;TZID=UTC:20241208T160000
DTSTAMP:20260420T201835
CREATED:20241117T214301Z
LAST-MODIFIED:20241117T214458Z
UID:1042-1733662800-1733673600@gchsxo.org
SUMMARY:Holiday Tour of Homes
DESCRIPTION:
URL:https://gchsxo.org/event/holiday-tour-of-homes/
LOCATION:Brantley Carriage House\, 74 W Church St\, Xenia\, OH\, 45385\, United States
END:VEVENT
END:VCALENDAR