BEGIN:VCALENDAR
VERSION:2.0
PRODID:-//Greene County Historical Society - ECPv6.15.18//NONSGML v1.0//EN
CALSCALE:GREGORIAN
METHOD:PUBLISH
X-ORIGINAL-URL:https://gchsxo.org
X-WR-CALDESC:Events for Greene County Historical Society
REFRESH-INTERVAL;VALUE=DURATION:PT1H
X-Robots-Tag:noindex
X-PUBLISHED-TTL:PT1H
BEGIN:VTIMEZONE
TZID:UTC
BEGIN:STANDARD
TZOFFSETFROM:+0000
TZOFFSETTO:+0000
TZNAME:UTC
DTSTART:20230101T000000
END:STANDARD
END:VTIMEZONE
BEGIN:VEVENT
DTSTART;TZID=UTC:20241101T180000
DTEND;TZID=UTC:20241101T193000
DTSTAMP:20260420T221823
CREATED:20240905T162807Z
LAST-MODIFIED:20240929T191751Z
UID:579-1730484000-1730489400@gchsxo.org
SUMMARY:Ghost Walk - North Tour
DESCRIPTION:This tour requires additional walking! Begins at the Carriage house\, tours the Trebein-Flynn House and will tour the north end of King Street and a portion of Galloway Street.
URL:https://gchsxo.org/event/ghost-walk-north-tour-5/
LOCATION:Brantley Carriage House\, 74 W Church St\, Xenia\, OH\, 45385\, United States
CATEGORIES:Ghost Walk
END:VEVENT
END:VCALENDAR