BEGIN:VCALENDAR
VERSION:2.0
PRODID:-//Greene County Historical Society - ECPv6.15.20//NONSGML v1.0//EN
CALSCALE:GREGORIAN
METHOD:PUBLISH
X-WR-CALNAME:Greene County Historical Society
X-ORIGINAL-URL:https://gchsxo.org
X-WR-CALDESC:Events for Greene County Historical Society
REFRESH-INTERVAL;VALUE=DURATION:PT1H
X-Robots-Tag:noindex
X-PUBLISHED-TTL:PT1H
BEGIN:VTIMEZONE
TZID:UTC
BEGIN:STANDARD
TZOFFSETFROM:+0000
TZOFFSETTO:+0000
TZNAME:UTC
DTSTART:20230101T000000
END:STANDARD
END:VTIMEZONE
BEGIN:VEVENT
DTSTART;TZID=UTC:20251208T190000
DTEND;TZID=UTC:20251208T200000
DTSTAMP:20260425T175919
CREATED:20250414T182627Z
LAST-MODIFIED:20250414T182627Z
UID:1329-1765220400-1765224000@gchsxo.org
SUMMARY:GCHS Monthly Public Meeting
DESCRIPTION:
URL:https://gchsxo.org/event/gchs-monthly-public-meeting-dec25/
LOCATION:Brantley Carriage House\, 74 W Church St\, Xenia\, OH\, 45385\, United States
CATEGORIES:Monthly Speaker
END:VEVENT
BEGIN:VEVENT
DTSTART;TZID=UTC:20251110T190000
DTEND;TZID=UTC:20251110T200000
DTSTAMP:20260425T175919
CREATED:20250414T182452Z
LAST-MODIFIED:20250414T182452Z
UID:1324-1762801200-1762804800@gchsxo.org
SUMMARY:GCHS Monthly Public Meeting
DESCRIPTION:
URL:https://gchsxo.org/event/gchs-monthly-public-meeting-nov25/
LOCATION:OH
CATEGORIES:Monthly Speaker
END:VEVENT
BEGIN:VEVENT
DTSTART;TZID=UTC:20251013T190000
DTEND;TZID=UTC:20251013T200000
DTSTAMP:20260425T175919
CREATED:20250903T130016Z
LAST-MODIFIED:20250903T130016Z
UID:1473-1760382000-1760385600@gchsxo.org
SUMMARY:Monthly Speaker: The Gassaways
DESCRIPTION:Come listen to stories from the Gassaways\, owners of the John Allen House on East Second Street.
URL:https://gchsxo.org/event/monthly-speaker-the-gassaways/
LOCATION:Brantley Carriage House\, 74 W Church St\, Xenia\, OH\, 45385\, United States
CATEGORIES:Monthly Speaker
END:VEVENT
BEGIN:VEVENT
DTSTART;TZID=UTC:20251013T190000
DTEND;TZID=UTC:20251013T200000
DTSTAMP:20260425T175919
CREATED:20250414T182319Z
LAST-MODIFIED:20250414T182319Z
UID:1319-1760382000-1760385600@gchsxo.org
SUMMARY:GCHS Monthly Public Meeting
DESCRIPTION:
URL:https://gchsxo.org/event/gchs-monthly-public-meeting-oct25/
LOCATION:Brantley Carriage House\, 74 W Church St\, Xenia\, OH\, 45385\, United States
CATEGORIES:Monthly Speaker
END:VEVENT
BEGIN:VEVENT
DTSTART;TZID=UTC:20250908T190000
DTEND;TZID=UTC:20250908T200000
DTSTAMP:20260425T175919
CREATED:20250414T182134Z
LAST-MODIFIED:20250414T182134Z
UID:1314-1757358000-1757361600@gchsxo.org
SUMMARY:GCHS Monthly Public Meeting
DESCRIPTION:
URL:https://gchsxo.org/event/gchs-monthly-public-meeting-sept25/
LOCATION:Brantley Carriage House\, 74 W Church St\, Xenia\, OH\, 45385\, United States
CATEGORIES:Monthly Speaker
END:VEVENT
BEGIN:VEVENT
DTSTART;TZID=UTC:20250811T190000
DTEND;TZID=UTC:20250811T200000
DTSTAMP:20260425T175919
CREATED:20250414T181813Z
LAST-MODIFIED:20250414T181813Z
UID:1307-1754938800-1754942400@gchsxo.org
SUMMARY:GCHS Monthly Public Meeting
DESCRIPTION:
URL:https://gchsxo.org/event/gchs-monthly-public-meeting-aug25/
LOCATION:Brantley Carriage House\, 74 W Church St\, Xenia\, OH\, 45385\, United States
CATEGORIES:Monthly Speaker
END:VEVENT
BEGIN:VEVENT
DTSTART;TZID=UTC:20250714T190000
DTEND;TZID=UTC:20250714T200000
DTSTAMP:20260425T175919
CREATED:20250414T181527Z
LAST-MODIFIED:20250414T181527Z
UID:1302-1752519600-1752523200@gchsxo.org
SUMMARY:GCHS Monthly Public Meeting
DESCRIPTION:
URL:https://gchsxo.org/event/gchs-monthly-public-meeting-july25/
LOCATION:Brantley Carriage House\, 74 W Church St\, Xenia\, OH\, 45385\, United States
CATEGORIES:Monthly Speaker
END:VEVENT
BEGIN:VEVENT
DTSTART;TZID=UTC:20250609T190000
DTEND;TZID=UTC:20250609T200000
DTSTAMP:20260425T175919
CREATED:20250414T181300Z
LAST-MODIFIED:20250414T181300Z
UID:1296-1749495600-1749499200@gchsxo.org
SUMMARY:GCHS Monthly Public Meeting
DESCRIPTION:
URL:https://gchsxo.org/event/gchs-monthly-public-meeting-june25/
LOCATION:OH
CATEGORIES:Monthly Speaker
END:VEVENT
BEGIN:VEVENT
DTSTART;TZID=UTC:20250512T190000
DTEND;TZID=UTC:20250512T200000
DTSTAMP:20260425T175919
CREATED:20250414T180622Z
LAST-MODIFIED:20250414T180622Z
UID:1279-1747076400-1747080000@gchsxo.org
SUMMARY:GCHS Monthly Public Meeting
DESCRIPTION:
URL:https://gchsxo.org/event/gchs-monthly-public-meeting/
LOCATION:Brantley Carriage House\, 74 W Church St\, Xenia\, OH\, 45385\, United States
CATEGORIES:Monthly Speaker
END:VEVENT
BEGIN:VEVENT
DTSTART;TZID=UTC:20241014T190000
DTEND;TZID=UTC:20241014T210000
DTSTAMP:20260425T175919
CREATED:20240905T021333Z
LAST-MODIFIED:20240905T022124Z
UID:515-1728932400-1728939600@gchsxo.org
SUMMARY:Guest Speaker Series: Great Council State Park
DESCRIPTION:
URL:https://gchsxo.org/event/guest-speaker-series-great-council-state-park/
LOCATION:Brantley Carriage House\, 74 W Church St\, Xenia\, OH\, 45385\, United States
CATEGORIES:Monthly Speaker
END:VEVENT
BEGIN:VEVENT
DTSTART;TZID=UTC:20240909T190000
DTEND;TZID=UTC:20240909T210000
DTSTAMP:20260425T175919
CREATED:20240905T021255Z
LAST-MODIFIED:20240905T163717Z
UID:513-1725908400-1725915600@gchsxo.org
SUMMARY:Guest Speaker Series: Paranormal Investigations
DESCRIPTION:
URL:https://gchsxo.org/event/guest-speaker-series-paranormal-investigations/
LOCATION:Brantley Carriage House\, 74 W Church St\, Xenia\, OH\, 45385\, United States
CATEGORIES:Monthly Speaker
END:VEVENT
END:VCALENDAR