BEGIN:VCALENDAR
VERSION:2.0
PRODID:-//Greene County Historical Society - ECPv6.15.18//NONSGML v1.0//EN
CALSCALE:GREGORIAN
METHOD:PUBLISH
X-WR-CALNAME:Greene County Historical Society
X-ORIGINAL-URL:https://gchsxo.org
X-WR-CALDESC:Events for Greene County Historical Society
REFRESH-INTERVAL;VALUE=DURATION:PT1H
X-Robots-Tag:noindex
X-PUBLISHED-TTL:PT1H
BEGIN:VTIMEZONE
TZID:UTC
BEGIN:STANDARD
TZOFFSETFROM:+0000
TZOFFSETTO:+0000
TZNAME:UTC
DTSTART:20240101T000000
END:STANDARD
END:VTIMEZONE
BEGIN:VEVENT
DTSTART;TZID=UTC:20250512T190000
DTEND;TZID=UTC:20250512T200000
DTSTAMP:20260420T124738
CREATED:20250414T180622Z
LAST-MODIFIED:20250414T180622Z
UID:1279-1747076400-1747080000@gchsxo.org
SUMMARY:GCHS Monthly Public Meeting
DESCRIPTION:
URL:https://gchsxo.org/event/gchs-monthly-public-meeting/
LOCATION:Brantley Carriage House\, 74 W Church St\, Xenia\, OH\, 45385\, United States
CATEGORIES:Monthly Speaker
END:VEVENT
END:VCALENDAR