BEGIN:VCALENDAR
VERSION:2.0
PRODID:-//Greene County Historical Society - ECPv6.15.18//NONSGML v1.0//EN
CALSCALE:GREGORIAN
METHOD:PUBLISH
X-ORIGINAL-URL:https://gchsxo.org
X-WR-CALDESC:Events for Greene County Historical Society
REFRESH-INTERVAL;VALUE=DURATION:PT1H
X-Robots-Tag:noindex
X-PUBLISHED-TTL:PT1H
BEGIN:VTIMEZONE
TZID:UTC
BEGIN:STANDARD
TZOFFSETFROM:+0000
TZOFFSETTO:+0000
TZNAME:UTC
DTSTART:20240101T000000
END:STANDARD
END:VTIMEZONE
BEGIN:VEVENT
DTSTART;TZID=UTC:20250506T120000
DTEND;TZID=UTC:20250506T160000
DTSTAMP:20260420T124900
CREATED:20250414T180340Z
LAST-MODIFIED:20250414T180340Z
UID:1274-1746532800-1746547200@gchsxo.org
SUMMARY:Rummage Sale Donation Day
DESCRIPTION:
URL:https://gchsxo.org/event/rummage-sale-donation-day-4/
LOCATION:Brantley Carriage House\, 74 W Church St\, Xenia\, OH\, 45385\, United States
CATEGORIES:Volunteer Opportunity
END:VEVENT
BEGIN:VEVENT
DTSTART;TZID=UTC:20250506T163000
DTEND;TZID=UTC:20250506T173000
DTSTAMP:20260420T124900
CREATED:20250414T180458Z
LAST-MODIFIED:20250414T180458Z
UID:1276-1746549000-1746552600@gchsxo.org
SUMMARY:GCHS Full Board Meeting
DESCRIPTION:
URL:https://gchsxo.org/event/gchs-full-board-meeting/
LOCATION:Brantley Carriage House\, 74 W Church St\, Xenia\, OH\, 45385\, United States
CATEGORIES:GCHS Board Meeting
END:VEVENT
END:VCALENDAR