BEGIN:VCALENDAR
VERSION:2.0
PRODID:-//Greene County Historical Society - ECPv6.15.18//NONSGML v1.0//EN
CALSCALE:GREGORIAN
METHOD:PUBLISH
X-ORIGINAL-URL:https://gchsxo.org
X-WR-CALDESC:Events for Greene County Historical Society
REFRESH-INTERVAL;VALUE=DURATION:PT1H
X-Robots-Tag:noindex
X-PUBLISHED-TTL:PT1H
BEGIN:VTIMEZONE
TZID:UTC
BEGIN:STANDARD
TZOFFSETFROM:+0000
TZOFFSETTO:+0000
TZNAME:UTC
DTSTART:20240101T000000
END:STANDARD
END:VTIMEZONE
BEGIN:VEVENT
DTSTART;TZID=UTC:20250118T190000
DTEND;TZID=UTC:20250119T003000
DTSTAMP:20260420T195900
CREATED:20241215T182047Z
LAST-MODIFIED:20241215T183338Z
UID:1233-1737226800-1737246600@gchsxo.org
SUMMARY:M&M Paranormal Investigations Private Event
DESCRIPTION:Content is protected.
URL:https://gchsxo.org/event/mm-paranormal-investigations-private-event/
LOCATION:Brantley Carriage House\, 74 W Church St\, Xenia\, OH\, 45385\, United States
ORGANIZER;CN="Nick Shank":MAILTO:nshank121@gmail.com
END:VEVENT
END:VCALENDAR